BEGIN:VCALENDAR
VERSION:2.0
PRODID:-//KNSE Projekt Europa - ECPv6.10.1.1//NONSGML v1.0//EN
CALSCALE:GREGORIAN
METHOD:PUBLISH
X-ORIGINAL-URL:https://projekteuropa.uwr.edu.pl/english
X-WR-CALDESC:Events for KNSE Projekt Europa
REFRESH-INTERVAL;VALUE=DURATION:PT1H
X-Robots-Tag:noindex
X-PUBLISHED-TTL:PT1H
BEGIN:VTIMEZONE
TZID:Europe/Warsaw
BEGIN:DAYLIGHT
TZOFFSETFROM:+0100
TZOFFSETTO:+0200
TZNAME:CEST
DTSTART:20230326T010000
END:DAYLIGHT
BEGIN:STANDARD
TZOFFSETFROM:+0200
TZOFFSETTO:+0100
TZNAME:CET
DTSTART:20231029T010000
END:STANDARD
END:VTIMEZONE
BEGIN:VEVENT
DTSTART;TZID=Europe/Warsaw:20230321T134500
DTEND;TZID=Europe/Warsaw:20230321T151500
DTSTAMP:20260420T041112
CREATED:20230312T194306Z
LAST-MODIFIED:20230517T195019Z
UID:311-1679406300-1679411700@projekteuropa.uwr.edu.pl
SUMMARY:WYKŁAD OTWARTY: „Sztuka wystąpień publicznych. Czy ciało komunikuje to\, co myśli głowa?”
DESCRIPTION:O prelegencie:\n\nDr Mateusz Domagała specjalizuje się w zakresie kreowania wizerunku. Szkoli z wystąpień publicznych\, zarówno w kontekście mowy ciała\, jak i konstrukcji oraz treści wystąpień. Tworzy strategie i realizuje działania w obszarze public relations. Współpracuje z osobami publicznymi\, instytucjami państwowymi\, samorządowymi i biznesem w zakresie kreowania wizerunku.\n\nW ostatnich latach pracował m.in. na rzecz zarządów Międzynarodowych Targów Poznańskich\, Państwowego Funduszu Osób Niepełnosprawnych czy jako doradca wojewodów w zakresie polityki medialnej. Obecnie jest związany Siecią Badawczą Łukasiewicz.\n\nMateusz Domagała jest autorem publikacji poświęconych perswazji i manipulacji ze szczególnym uwzględnieniem przemówień i przekazów medialnych.\n\n 
URL:https://projekteuropa.uwr.edu.pl/english/event/sztuka-wystapien-publicznych-czy-cialo-komunikuje-to-co-mysli-glowa/
LOCATION:Aula A\, Instytut Politologii\, Poland
CATEGORIES:wykład otwarty
END:VEVENT
END:VCALENDAR