BEGIN:VCALENDAR
VERSION:2.0
PRODID:-//KNSE Projekt Europa - ECPv6.10.1.1//NONSGML v1.0//EN
CALSCALE:GREGORIAN
METHOD:PUBLISH
X-WR-CALNAME:KNSE Projekt Europa
X-ORIGINAL-URL:https://projekteuropa.uwr.edu.pl/english
X-WR-CALDESC:Events for KNSE Projekt Europa
REFRESH-INTERVAL;VALUE=DURATION:PT1H
X-Robots-Tag:noindex
X-PUBLISHED-TTL:PT1H
BEGIN:VTIMEZONE
TZID:Europe/Warsaw
BEGIN:DAYLIGHT
TZOFFSETFROM:+0100
TZOFFSETTO:+0200
TZNAME:CEST
DTSTART:20230326T010000
END:DAYLIGHT
BEGIN:STANDARD
TZOFFSETFROM:+0200
TZOFFSETTO:+0100
TZNAME:CET
DTSTART:20231029T010000
END:STANDARD
BEGIN:DAYLIGHT
TZOFFSETFROM:+0100
TZOFFSETTO:+0200
TZNAME:CEST
DTSTART:20240331T010000
END:DAYLIGHT
BEGIN:STANDARD
TZOFFSETFROM:+0200
TZOFFSETTO:+0100
TZNAME:CET
DTSTART:20241027T010000
END:STANDARD
END:VTIMEZONE
BEGIN:VEVENT
DTSTART;TZID=Europe/Warsaw:20240507T000000
DTEND;TZID=Europe/Warsaw:20240508T235959
DTSTAMP:20260420T004112
CREATED:20240415T135507Z
LAST-MODIFIED:20240415T145656Z
UID:1630-1715040000-1715212799@projekteuropa.uwr.edu.pl
SUMMARY:KONFERENCJA: Gra o wysoką stawkę: wybory do Parlamentu Europejskiego w czasach multikryzysu
DESCRIPTION:Z uwagą przyglądamy się tegorocznym wyborom do Parlamentu Europejskiego. Dla Polski będą one szczególne – symbolicznie podsumują 20 lat polskiego członkostwa w Unii Europejskiej. Przez ten czas wiele się zmieniło. Dzisiejsza Europa stoi przed wieloma skomplikowanymi wyzwaniami\, którym w najbliższej kadencji będzie musiał stawić czoła także Parlament Europejski. \n\n\n\nW dniu 7 maja br. na Wydziale Nauk Społecznych Uniwersytetu Wrocławskiego\, w budynku Instytutu Politologii\, odbędzie się debata przedwyborcza polityków reprezentujących największe polskie ugrupowania parlamentarne\, którzy wystartują w nadchodzących wyborach europejskich! \n\n\n\nKolejnego dnia – 8 maja\, w biurze Parlamentu Europejskiego we Wrocławiu\, na ul. Widok 10\, odbędzie się część ekspercka\, podczas której będziemy rozmawiać o kluczowych kwestiach związanych z naszą przyszłością w Unii Europejskiej. Eksperci opowiedzą o roli wyborów europejskich\, współczesnej demokracji\, nadchodzących reformach instytucjonalnych w UE i wielu innych ważnych kwestiach! \n\n\n\nWszystkie szczegóły wydarzenia zdradzimy Wam już wkrótce!Nie może was tam zabraknąć! \n\n\n\nSponsorem i głównym organizatorem wydarzenia jest Katedra Jeana Monneta\, działająca na Wydziale Nauk Społecznych Uniwersytetu Wrocławskiego. Partnerzy merytoryczni: Biuro Parlamentu Europejskiego we Wrocławiu\, Instytut Studiów Europejskich UWr\, Instytut Politologii UWr oraz członkowie Koła Naukowego Projekt Europa i Koła Naukowego Interdyscyplinarnych Działań Europejskich.
URL:https://projekteuropa.uwr.edu.pl/english/event/konferencja-gra-o-wysoka-stawke-wybory-do-parlamentu-europejskiego-w-czasach-multikryzysu/
LOCATION:Wydział Nauk Społecznych UWr (Kampus Koszarowa)\, ul. Koszarowa 3\, Wrocław\, dolnośląskie\, 51-149\, Poland
CATEGORIES:konferencja naukowa
END:VEVENT
BEGIN:VEVENT
DTSTART;TZID=Europe/Warsaw:20230530T000000
DTEND;TZID=Europe/Warsaw:20230531T235959
DTSTAMP:20260420T004112
CREATED:20230424T162126Z
LAST-MODIFIED:20230528T193529Z
UID:435-1685404800-1685577599@projekteuropa.uwr.edu.pl
SUMMARY:Międzynarodowa Konferencja Naukowa: Wybory parlamentarne 2023 w Polsce: Wyzwania - kontekst - strategie
DESCRIPTION:Przed nami wyjątkowa\, międzynarodowa konferencja naukowa\, której głównym tematem będą nadchodzące wybory parlamentarne\, które przez wielu komentatorów\, są nazywane najważniejszymi po 1989 roku. \nNa konferencji zaprezentują się naukowcy z Polski\, Słowacji\, Bułgarii\, Czech i Węgier. Całe wydarzenie będzie tłumaczone na język angielski. \n \nProgram Konferencji: \n30 maja (wtorek)\n 11:00 – otwarcie konferencji (Aula\, Instytut Politologii) \n\nprof. dr hab. Robert Alberski\, dziekan Wydziału Nauk Społecznych\ndr hab. prof. UWr Aleksandra Maatsch\, kierowniczka Katedry Jean Monnet ds. Polityki Europejskiej\ndr hab. Piotr Grabowiec\, kierownik Katedry Studiów Europejskich\ndr hab. prof. UWr Dariusz Skrzypiński\, dyrektor Instytutu Politologii\nOliwia Niedobecka (Projekt Europa) oraz Karolina Wasiukiewicz (KN IDE)\, przewodniczące kół naukowych\n\n\n\nLINK: https://bit.ly/DEBATA_POLITYCZNA_2023\n\n\n\n11:30 – 13:30 – debata polityczna (Aula) \n\n\n\n\nMirosława Stachowiak-Różecka (PiS)\, posłanka na Sejm RP\n\n\n\nMichał Jaros (PO)\, poseł na Sejm RP\n\n\n\nAgnieszka Dziemianowicz-Bąk (LEWICA)\, posłanka na Sejm RP\n\n\n\nJacek Protasiewicz (PSL)\, rzecznik prasowy PSL oraz prezes Młodych Ludowców\n\n\n\nKrzysztof Tuduj (Konfederacja)\, poseł na Sejm RP\n\n\n\nMichał Kobosko (Polska2050)\, wiceprzewodniczący Polska2050\n\n\n\n\nModeratorzy: Marianna Bartłomiejus-Samołyk (KN IDE)\, Jakub Sławiński (KN Projekt Europa)\, studenci Uniwersytetu Wrocławskiego \n\n\n\nLINK: https://bit.ly/DEBATA_POLITYCZNA_2023\n\n\n\n13:45 – 15:15 – debata ekspercka: Stawka wyborów AD 2023: strategiczna walka o wszystko czy potyczka\, jakich wiele? sala 23 IP \n\n\n\n\ndr hab. prof. UJ Jarosław Flis\, Uniwersytet Jagielloński\n\n\n\ndr Michał Kotnarowski\, Polska Akademia Nauk\n\n\n\ndr Anna Materska-Sosnowska\, Uniwersytet Warszawski\n\n\n\ndr hab. prof. UMK Maria Wincławska\, Uniwersytet Mikołaja Kopernika w Toruniu\n\n\n\n\nModeratorka: prof. dr hab. Anna Pacześniak\, Uniwersytet Wrocławski \n\n\n\nLINK: https://zoom.us/j/98254574741?pwd=MlZuRXdrWEJTaDR1QjAwZmxhZGxoZz09Meeting-ID: 982 5457 4741\, Code: 992591\n\n\n\n15:30 – 17:00  – debata ekspercka: Wybory i politycy w mediach\, media o wyborach: kreacja\, informacja\, manipulacja\, sala 23 IP \n\n\n\n\ndr hab. prof. UWr Michał Bernaczyk\, Uniwersytet Wrocławski\n\n\n\ndr Barbara Brodzińska-Mirowska\, Uniwersytet Mikołaja Kopernika\n\n\n\ndr Mateusz Domagała\, Poznański Instytut Technologiczny / Collegium Da Vinci\n\n\n\ndr hab. prof. UWr Michał Jacuński\, Uniwersytet Wrocławski\n\n\n\nprof. dr hab. Agnieszka Kasińska-Metryka\, Uniwersytet Jana Kochanowskiego w Kielcach\n\n\n\n\nModeratorka: dr hab. Katarzyna Konarska\, Uniwersytet Wrocławski \n\n\n\nLINK: https://zoom.us/j/98254574741?pwd=MlZuRXdrWEJTaDR1QjAwZmxhZGxoZz09Meeting-ID: 982 5457 4741\, Code: 992591\n\n\n\n31 maja (środa)\n\n\n\n9:30 – 11:15 – debata ekspercka: Wnioski\, dobre praktyki oraz ostrzeżenia z innych krajów Europy Środkowo-Wschodniej\, sala 23 IP (debata w j. angielskim) \n\n\n\n\ndr András Bíró-Nagy\, Dyrektor Policy Solutions w Budapeszcie\n\n\n\ndr hab. Michel Perottino\, Uniwersytet Karola w Pradze\n\n\n\ndr Grigorij Mesežnikov\, Prezydent Instytutu Spraw Publicznych (IVO)\, Słowacja\n\n\n\ndr Petia Georgieva\, Nowy Uniwersytet Bułgarski\n\n\n\n\nModeratorka: dr Małgorzata Madej\, Uniwersytet Wrocławski \n\n\n\nLINK: https://zoom.us/j/98926259021?pwd=bnFMRWt4S1llMGhJRXBPWU5nM1R0dz09Meeting-ID: 989 2625 9021\, Code: 061421\n\n\n\n11:30 – 13:15 – debata ekspercka: Praworządność po wyborach – scenariusze\, sala 23 IP (debata w j. angielskim) \n\n\n\n\nprof. Michael Blauberger\, Uniwersytet w Salzburgu\n\n\n\ndr Barbara Grabowska-Moroz\, Uniwersytet Środkowoeuropejski i Uniwersytet Wrocławski\n\n\n\nprof. Arndt Wonka\, Uniwersytet w Bremie\n\n\n\nGisela Hernandez\, Hiszpańska Krajowa Rada ds. Badań Naukowych (CSIC)\n\n\n\n\nModeratorka: dr hab. prof. UWr Aleksandra Maatsch\, Uniwersytet Wrocławski \n\n\n\nLINK: https://zoom.us/j/98926259021?pwd=bnFMRWt4S1llMGhJRXBPWU5nM1R0dz09Meeting-ID: 989 2625 9021\, Code: 061421\n\n\n\n13.15 – 14.00 – lunch \n\n\n\n14.00  – 15. 30 – debata ekspercka online: Polska a przyszłość UE: polityka europejska po wyborach \n\n\n\n\ndr Piotr Buras\, European Council on Foreign Relations\n\n\n\ndr hab. Renata Mieńkowska-Norkiene\, Uniwersytet Warszawski\n\n\n\ndr Marcin Kędzierski\, Centrum Analiz Klubu Jagiellońskiego\n\n\n\ndr Jolanta Szymańska\, Polski Instytut Spraw Międzynarodowych\n\n\n\n\nModeratorka: dr hab. Karolina Borońska-Hryniewiecka\, Uniwersytet Wrocławski \n\n\n\nLINK: https://zoom.us/j/98926259021?pwd=bnFMRWt4S1llMGhJRXBPWU5nM1R0dz09Meeting-ID: 989 2625 9021\, Code: 061421
URL:https://projekteuropa.uwr.edu.pl/english/event/konferencja-naukoowa-wybory-2023-uwr/
LOCATION:Wydział Nauk Społecznych UWr (Kampus Koszarowa)\, ul. Koszarowa 3\, Wrocław\, dolnośląskie\, 51-149\, Poland
CATEGORIES:konferencja naukowa
ATTACH;FMTTYPE=image/png:https://projekteuropa.uwr.edu.pl/wp-content/uploads/2023/04/vVZ_v_iA.png
END:VEVENT
END:VCALENDAR